BEGIN:VCALENDAR
VERSION:2.0
PRODID:-//Residential Healthcare Group - ECPv6.15.20//NONSGML v1.0//EN
CALSCALE:GREGORIAN
METHOD:PUBLISH
X-ORIGINAL-URL:https://residentialhealthcaregroup.com
X-WR-CALDESC:Events for Residential Healthcare Group
REFRESH-INTERVAL;VALUE=DURATION:PT1H
X-Robots-Tag:noindex
X-PUBLISHED-TTL:PT1H
BEGIN:VTIMEZONE
TZID:America/Chicago
BEGIN:DAYLIGHT
TZOFFSETFROM:-0600
TZOFFSETTO:-0500
TZNAME:CDT
DTSTART:20250309T080000
END:DAYLIGHT
BEGIN:STANDARD
TZOFFSETFROM:-0500
TZOFFSETTO:-0600
TZNAME:CST
DTSTART:20251102T070000
END:STANDARD
BEGIN:DAYLIGHT
TZOFFSETFROM:-0600
TZOFFSETTO:-0500
TZNAME:CDT
DTSTART:20260308T080000
END:DAYLIGHT
BEGIN:STANDARD
TZOFFSETFROM:-0500
TZOFFSETTO:-0600
TZNAME:CST
DTSTART:20261101T070000
END:STANDARD
BEGIN:DAYLIGHT
TZOFFSETFROM:-0600
TZOFFSETTO:-0500
TZNAME:CDT
DTSTART:20270314T080000
END:DAYLIGHT
BEGIN:STANDARD
TZOFFSETFROM:-0500
TZOFFSETTO:-0600
TZNAME:CST
DTSTART:20271107T070000
END:STANDARD
END:VTIMEZONE
BEGIN:VTIMEZONE
TZID:America/New_York
BEGIN:DAYLIGHT
TZOFFSETFROM:-0500
TZOFFSETTO:-0400
TZNAME:EDT
DTSTART:20250309T070000
END:DAYLIGHT
BEGIN:STANDARD
TZOFFSETFROM:-0400
TZOFFSETTO:-0500
TZNAME:EST
DTSTART:20251102T060000
END:STANDARD
BEGIN:DAYLIGHT
TZOFFSETFROM:-0500
TZOFFSETTO:-0400
TZNAME:EDT
DTSTART:20260308T070000
END:DAYLIGHT
BEGIN:STANDARD
TZOFFSETFROM:-0400
TZOFFSETTO:-0500
TZNAME:EST
DTSTART:20261101T060000
END:STANDARD
BEGIN:DAYLIGHT
TZOFFSETFROM:-0500
TZOFFSETTO:-0400
TZNAME:EDT
DTSTART:20270314T070000
END:DAYLIGHT
BEGIN:STANDARD
TZOFFSETFROM:-0400
TZOFFSETTO:-0500
TZNAME:EST
DTSTART:20271107T060000
END:STANDARD
END:VTIMEZONE
BEGIN:VEVENT
DTSTART;TZID=America/Chicago:20260423T093000
DTEND;TZID=America/Chicago:20260423T110000
DTSTAMP:20260423T040029
CREATED:20250507T205356Z
LAST-MODIFIED:20260420T022204Z
UID:10005532-1776936600-1776942000@residentialhealthcaregroup.com
SUMMARY:Elmhurst Hospital Grief Support Group
DESCRIPTION:Gather with others dealing with the loss of a loved one. Our grief support groups provide a safe space for you to share your grief and seek camaraderie. Our groups are “drop-in” and can be attended as little or as often as you like and need. We encourage you to join each session to create relationships with your fellow participants. \nAfter you register for the group\, we will email you to confirm and provide additional details on the specific location. We will also connect you with the facilitator.
URL:https://residentialhealthcaregroup.com/grief-services-event/elmhurst-il-support-group/2026-04-23/
LOCATION:Elmhurst Hospital\, 155 E Brush Hill Road\, Elmhurst\, IL\, 60126\, United States
CATEGORIES:All Events,In-Person Support Groups
ATTACH;FMTTYPE=image/png:https://residentialhealthcaregroup.com/wp-content/uploads/Elmhurst-Support-Group.png
ORGANIZER;CN="Residential Healthcare Group":MAILTO:griefsupport@residentialhospice.com
END:VEVENT
BEGIN:VEVENT
DTSTART;TZID=America/New_York:20260423T140000
DTEND;TZID=America/New_York:20260423T150000
DTSTAMP:20260423T040029
CREATED:20260325T210430Z
LAST-MODIFIED:20260402T212217Z
UID:10002421-1776952800-1776956400@residentialhealthcaregroup.com
SUMMARY:Virtual Grief Support Group - Afternoon
DESCRIPTION:Join others dealing with the loss of a loved one from the comfort of your own home. Our virtual grief support groups provide a safe space for you to share your grief and seek camaraderie. Our virtual groups are “drop-in” and can be attended as little or as often as you like and need. We encourage you to join each session to create relationships with your fellow participants. \n\n\n\nAfter you register\, we will email you a link so you can join the meeting during its scheduled time. The group leader will greet you and the other attendees.
URL:https://residentialhealthcaregroup.com/grief-services-event/virtual-grief-support-group-afternoon-2-2-2/2026-04-23/
LOCATION:Virtual
CATEGORIES:All Events,Virtual Support Groups
ATTACH;FMTTYPE=image/jpeg:https://residentialhealthcaregroup.com/wp-content/uploads/virtual-support-group-1.jpg
ORGANIZER;CN="Residential Healthcare Group":MAILTO:griefsupport@residentialhospice.com
END:VEVENT
BEGIN:VEVENT
DTSTART;TZID=America/Chicago:20260423T140000
DTEND;TZID=America/Chicago:20260423T153000
DTSTAMP:20260423T040029
CREATED:20260402T193719Z
LAST-MODIFIED:20260420T022425Z
UID:10005619-1776952800-1776958200@residentialhealthcaregroup.com
SUMMARY:Edwards Hospital Grief Support Group
DESCRIPTION:Gather with others dealing with the loss of a loved one. Our grief support groups provide a safe space for you to share your grief and seek camaraderie. Our groups are “drop-in” and can be attended as little or as often as you like and need. We encourage you to join each session to create relationships with your fellow participants. \nAfter you register for the group\, we will email you to confirm and provide additional details on the specific location. We will also connect you with the facilitator.
URL:https://residentialhealthcaregroup.com/grief-services-event/edwards-hospital-grief-support-group/2026-04-23/
LOCATION:Edwards Hospital – 801 S Washington St\, Naperville\, IL 60540\, 801 S Washington St\, Naperville\, IL\, 60540
CATEGORIES:All Events,In-Person Support Groups
ATTACH;FMTTYPE=image/png:https://residentialhealthcaregroup.com/wp-content/uploads/Elmhurst-Support-Group.png
ORGANIZER;CN="Residential Healthcare Group":MAILTO:griefsupport@residentialhospice.com
END:VEVENT
BEGIN:VEVENT
DTSTART;TZID=America/Chicago:20260423T160000
DTEND;TZID=America/Chicago:20260423T170000
DTSTAMP:20260423T040029
CREATED:20260402T194615Z
LAST-MODIFIED:20260420T020825Z
UID:10003635-1776960000-1776963600@residentialhealthcaregroup.com
SUMMARY:Glen Brook Hospital Grief Support Group
DESCRIPTION:Gather with others dealing with the loss of a loved one. Our grief support groups provide a safe space for you to share your grief and seek camaraderie. Our groups are “drop-in” and can be attended as little or as often as you like and need. We encourage you to join each session to create relationships with your fellow participants. \nAfter you register for the group\, we will email you to confirm and provide additional details on the specific location. We will also connect you with the facilitator.
URL:https://residentialhealthcaregroup.com/grief-services-event/glen-brook-hospital-grief-support-group/2026-04-23/
LOCATION:Glen Brook Hospital – 2100 Pfingsten Rd\, Glenview\, IL 60026\, 2100 Pfingsten Rd\, Glenview\, IL\, 60026
CATEGORIES:All Events,In-Person Support Groups
ATTACH;FMTTYPE=image/png:https://residentialhealthcaregroup.com/wp-content/uploads/Elmhurst-Support-Group.png
ORGANIZER;CN="Residential Healthcare Group":MAILTO:griefsupport@residentialhospice.com
END:VEVENT
BEGIN:VEVENT
DTSTART;TZID=America/New_York:20260423T173000
DTEND;TZID=America/New_York:20260423T183000
DTSTAMP:20260423T040029
CREATED:20260402T200959Z
LAST-MODIFIED:20260420T022027Z
UID:10004343-1776965400-1776969000@residentialhealthcaregroup.com
SUMMARY:Carbondale Public Library Grief Support Group - Evening
DESCRIPTION:Gather with others dealing with the loss of a loved one. Our grief support groups provide a safe space for you to share your grief and seek camaraderie. Our groups are “drop-in” and can be attended as little or as often as you like and need. We encourage you to join each session to create relationships with your fellow participants. \nAfter you register for the group\, we will email you to confirm and provide additional details on the specific location. We will also connect you with the facilitator.
URL:https://residentialhealthcaregroup.com/grief-services-event/carbondale-public-library-grief-support-group-evening/2026-04-23/
LOCATION:Carbondale Public Library\, 5 N Main St\, Carbondale\, PA 18407\, 5 N Main St\, Carbondale\, PA\, 18407
CATEGORIES:All Events,In-Person Support Groups
ATTACH;FMTTYPE=image/png:https://residentialhealthcaregroup.com/wp-content/uploads/Elmhurst-Support-Group.png
ORGANIZER;CN="Residential Healthcare Group":MAILTO:griefsupport@residentialhospice.com
END:VEVENT
BEGIN:VEVENT
DTSTART;TZID=America/Chicago:20260424T110000
DTEND;TZID=America/Chicago:20260424T120000
DTSTAMP:20260423T040029
CREATED:20250507T234908Z
LAST-MODIFIED:20260325T213156Z
UID:10003129-1777028400-1777032000@residentialhealthcaregroup.com
SUMMARY:Northwest Community Hospital Grief Support Group
DESCRIPTION:Gather with others dealing with the loss of a loved one. Our grief support groups provide a safe space for you to share your grief and seek camaraderie. Our groups are “drop-in” and can be attended as little or as often as you like and need. We encourage you to join each session to create relationships with your fellow participants. \n\n\n\nAfter you register for the group\, we will email you to confirm and provide additional details on the specific location. We will also connect you with the facilitator.
URL:https://residentialhealthcaregroup.com/grief-services-event/northwest-community-hospital-grief-support-group-2/2026-04-24/
LOCATION:Northwest Community Hospital\, 800 W Central Road\, Arlington Heights\, IL\, 60005\, United States
CATEGORIES:All Events,In-Person Support Groups
ATTACH;FMTTYPE=image/jpeg:https://residentialhealthcaregroup.com/wp-content/uploads/Arlington-Heights-Support-Group.jpg
ORGANIZER;CN="Residential Healthcare Group":MAILTO:griefsupport@residentialhospice.com
END:VEVENT
BEGIN:VEVENT
DTSTART;TZID=America/Chicago:20260424T160000
DTEND;TZID=America/Chicago:20260424T170000
DTSTAMP:20260423T040029
CREATED:20260402T194615Z
LAST-MODIFIED:20260420T020825Z
UID:10003636-1777046400-1777050000@residentialhealthcaregroup.com
SUMMARY:Glen Brook Hospital Grief Support Group
DESCRIPTION:Gather with others dealing with the loss of a loved one. Our grief support groups provide a safe space for you to share your grief and seek camaraderie. Our groups are “drop-in” and can be attended as little or as often as you like and need. We encourage you to join each session to create relationships with your fellow participants. \nAfter you register for the group\, we will email you to confirm and provide additional details on the specific location. We will also connect you with the facilitator.
URL:https://residentialhealthcaregroup.com/grief-services-event/glen-brook-hospital-grief-support-group/2026-04-24/
LOCATION:Glen Brook Hospital – 2100 Pfingsten Rd\, Glenview\, IL 60026\, 2100 Pfingsten Rd\, Glenview\, IL\, 60026
CATEGORIES:All Events,In-Person Support Groups
ATTACH;FMTTYPE=image/png:https://residentialhealthcaregroup.com/wp-content/uploads/Elmhurst-Support-Group.png
ORGANIZER;CN="Residential Healthcare Group":MAILTO:griefsupport@residentialhospice.com
END:VEVENT
BEGIN:VEVENT
DTSTART;TZID=America/New_York:20260428T100000
DTEND;TZID=America/New_York:20260428T110000
DTSTAMP:20260423T040029
CREATED:20260402T214556Z
LAST-MODIFIED:20260402T214956Z
UID:10005226-1777370400-1777374000@residentialhealthcaregroup.com
SUMMARY:Virtual Spousal Loss Grief Support Group - Morning (EST - Tues)
DESCRIPTION:Join others dealing with the loss of a loved one from the comfort of your own home. Our virtual grief support groups provide a safe space for you to share your grief and seek camaraderie. Our virtual groups are “drop-in” and can be attended as little or as often as you like and need. We encourage you to join each session to create relationships with your fellow participants. \n\n\n\nAfter you register\, we will email you a link so you can join the meeting during its scheduled time. The group leader will greet you and the other attendees.
URL:https://residentialhealthcaregroup.com/grief-services-event/virtual-spousal-loss-grief-support-group-morning-2/2026-04-28/
LOCATION:Virtual
CATEGORIES:All Events,Virtual Support Groups
ATTACH;FMTTYPE=image/jpeg:https://residentialhealthcaregroup.com/wp-content/uploads/virtual-spousal-support-group.jpg
ORGANIZER;CN="Residential Healthcare Group":MAILTO:griefsupport@residentialhospice.com
END:VEVENT
BEGIN:VEVENT
DTSTART;TZID=America/Chicago:20260429T173000
DTEND;TZID=America/Chicago:20260429T183000
DTSTAMP:20260423T040029
CREATED:20260402T214309Z
LAST-MODIFIED:20260402T214310Z
UID:10004634-1777483800-1777487400@residentialhealthcaregroup.com
SUMMARY:Virtual Grief Support Group - Evening
DESCRIPTION:Join others dealing with the loss of a loved one from the comfort of your own home. Our virtual grief support groups provide a safe space for you to share your grief and seek camaraderie. Our virtual groups are “drop-in” and can be attended as little or as often as you like and need. We encourage you to join each session to create relationships with your fellow participants. \n\n\n\nAfter you register\, we will email you a link so you can join the meeting during its scheduled time. The group leader will greet you and the other attendees.
URL:https://residentialhealthcaregroup.com/grief-services-event/virtual-grief-support-group-evening-2-3-2/2026-04-29/
LOCATION:Virtual
ATTACH;FMTTYPE=image/png:https://residentialhealthcaregroup.com/wp-content/uploads/virtual-support-group.png
ORGANIZER;CN="Residential Healthcare Group":MAILTO:griefsupport@residentialhospice.com
END:VEVENT
BEGIN:VEVENT
DTSTART;TZID=America/Chicago:20260430T093000
DTEND;TZID=America/Chicago:20260430T110000
DTSTAMP:20260423T040029
CREATED:20250507T205356Z
LAST-MODIFIED:20260420T022204Z
UID:10005533-1777541400-1777546800@residentialhealthcaregroup.com
SUMMARY:Elmhurst Hospital Grief Support Group
DESCRIPTION:Gather with others dealing with the loss of a loved one. Our grief support groups provide a safe space for you to share your grief and seek camaraderie. Our groups are “drop-in” and can be attended as little or as often as you like and need. We encourage you to join each session to create relationships with your fellow participants. \nAfter you register for the group\, we will email you to confirm and provide additional details on the specific location. We will also connect you with the facilitator.
URL:https://residentialhealthcaregroup.com/grief-services-event/elmhurst-il-support-group/2026-04-30/
LOCATION:Elmhurst Hospital\, 155 E Brush Hill Road\, Elmhurst\, IL\, 60126\, United States
CATEGORIES:All Events,In-Person Support Groups
ATTACH;FMTTYPE=image/png:https://residentialhealthcaregroup.com/wp-content/uploads/Elmhurst-Support-Group.png
ORGANIZER;CN="Residential Healthcare Group":MAILTO:griefsupport@residentialhospice.com
END:VEVENT
BEGIN:VEVENT
DTSTART;TZID=America/Chicago:20260430T130000
DTEND;TZID=America/Chicago:20260430T140000
DTSTAMP:20260423T040029
CREATED:20250610T214744Z
LAST-MODIFIED:20260402T212317Z
UID:10004504-1777554000-1777557600@residentialhealthcaregroup.com
SUMMARY:Virtual Grief Support Group - Afternoon
DESCRIPTION:Join others dealing with the loss of a loved one from the comfort of your own home. Our virtual grief support groups provide a safe space for you to share your grief and seek camaraderie. Our virtual groups are “drop-in” and can be attended as little or as often as you like and need. We encourage you to join each session to create relationships with your fellow participants. \n\n\n\nAfter you register\, we will email you a link so you can join the meeting during its scheduled time. The group leader will greet you and the other attendees.
URL:https://residentialhealthcaregroup.com/grief-services-event/virtual-grief-support-group-afternoon-2/2026-04-30/
LOCATION:Virtual
CATEGORIES:All Events,Virtual Support Groups
ATTACH;FMTTYPE=image/jpeg:https://residentialhealthcaregroup.com/wp-content/uploads/virtual-support-group-1.jpg
ORGANIZER;CN="Residential Healthcare Group":MAILTO:griefsupport@residentialhospice.com
END:VEVENT
BEGIN:VEVENT
DTSTART;TZID=America/Chicago:20260430T140000
DTEND;TZID=America/Chicago:20260430T153000
DTSTAMP:20260423T040029
CREATED:20260402T193719Z
LAST-MODIFIED:20260420T022425Z
UID:10005620-1777557600-1777563000@residentialhealthcaregroup.com
SUMMARY:Edwards Hospital Grief Support Group
DESCRIPTION:Gather with others dealing with the loss of a loved one. Our grief support groups provide a safe space for you to share your grief and seek camaraderie. Our groups are “drop-in” and can be attended as little or as often as you like and need. We encourage you to join each session to create relationships with your fellow participants. \nAfter you register for the group\, we will email you to confirm and provide additional details on the specific location. We will also connect you with the facilitator.
URL:https://residentialhealthcaregroup.com/grief-services-event/edwards-hospital-grief-support-group/2026-04-30/
LOCATION:Edwards Hospital – 801 S Washington St\, Naperville\, IL 60540\, 801 S Washington St\, Naperville\, IL\, 60540
CATEGORIES:All Events,In-Person Support Groups
ATTACH;FMTTYPE=image/png:https://residentialhealthcaregroup.com/wp-content/uploads/Elmhurst-Support-Group.png
ORGANIZER;CN="Residential Healthcare Group":MAILTO:griefsupport@residentialhospice.com
END:VEVENT
BEGIN:VEVENT
DTSTART;TZID=America/Chicago:20260430T160000
DTEND;TZID=America/Chicago:20260430T170000
DTSTAMP:20260423T040029
CREATED:20260402T194615Z
LAST-MODIFIED:20260420T020825Z
UID:10003637-1777564800-1777568400@residentialhealthcaregroup.com
SUMMARY:Glen Brook Hospital Grief Support Group
DESCRIPTION:Gather with others dealing with the loss of a loved one. Our grief support groups provide a safe space for you to share your grief and seek camaraderie. Our groups are “drop-in” and can be attended as little or as often as you like and need. We encourage you to join each session to create relationships with your fellow participants. \nAfter you register for the group\, we will email you to confirm and provide additional details on the specific location. We will also connect you with the facilitator.
URL:https://residentialhealthcaregroup.com/grief-services-event/glen-brook-hospital-grief-support-group/2026-04-30/
LOCATION:Glen Brook Hospital – 2100 Pfingsten Rd\, Glenview\, IL 60026\, 2100 Pfingsten Rd\, Glenview\, IL\, 60026
CATEGORIES:All Events,In-Person Support Groups
ATTACH;FMTTYPE=image/png:https://residentialhealthcaregroup.com/wp-content/uploads/Elmhurst-Support-Group.png
ORGANIZER;CN="Residential Healthcare Group":MAILTO:griefsupport@residentialhospice.com
END:VEVENT
BEGIN:VEVENT
DTSTART;TZID=America/Chicago:20260430T183000
DTEND;TZID=America/Chicago:20260430T191500
DTSTAMP:20260423T040029
CREATED:20260402T201615Z
LAST-MODIFIED:20260402T201655Z
UID:10004434-1777573800-1777576500@residentialhealthcaregroup.com
SUMMARY:Blue Elephant Children's Workshop - A Jar of Memories
DESCRIPTION:Any child\, ages 5-11 years old\, experiencing the loss of a loved one is invited to join our free Blue Elephant Discovery Workshops. Our goal is to help children explore ways to express their feelings and use coping mechanisms to guide them through grief. We will be creating a memory jar with small notes about our loved one we have lost. When the workshop is done\, we encourage you to pull one memory out daily\, or when you may need it.
URL:https://residentialhealthcaregroup.com/grief-services-event/blue-elephant-childrens-workshop-a-jar-of-memories-2/2026-04-30/1/
LOCATION:Virtual
CATEGORIES:All Events,In-Person Support Groups
ATTACH;FMTTYPE=image/jpeg:https://residentialhealthcaregroup.com/wp-content/uploads/Plainfield-Support-Group-1.jpg
ORGANIZER;CN="Residential Healthcare Group":MAILTO:griefsupport@residentialhospice.com
END:VEVENT
BEGIN:VEVENT
DTSTART;TZID=America/New_York:20260430T193000
DTEND;TZID=America/New_York:20260430T203000
DTSTAMP:20260423T040029
CREATED:20260402T201453Z
LAST-MODIFIED:20260402T201850Z
UID:10004431-1777577400-1777581000@residentialhealthcaregroup.com
SUMMARY:Blue Elephant Children's Workshop - A Jar of Memories
DESCRIPTION:Any child\, ages 5-11 years old\, experiencing the loss of a loved one is invited to join our free Blue Elephant Discovery Workshops. Our goal is to help children explore ways to express their feelings and use coping mechanisms to guide them through grief. We will be creating a memory jar with small notes about our loved one we have lost. When the workshop is done\, we encourage you to pull one memory out daily\, or when you may need it.
URL:https://residentialhealthcaregroup.com/grief-services-event/blue-elephant-childrens-workshop-a-jar-of-memories/2026-04-30/
LOCATION:Virtual
CATEGORIES:All Events,In-Person Support Groups
ATTACH;FMTTYPE=image/jpeg:https://residentialhealthcaregroup.com/wp-content/uploads/Plainfield-Support-Group-1.jpg
ORGANIZER;CN="Residential Healthcare Group":MAILTO:griefsupport@residentialhospice.com
END:VEVENT
BEGIN:VEVENT
DTSTART;TZID=America/Chicago:20260430T193000
DTEND;TZID=America/Chicago:20260430T203000
DTSTAMP:20260423T040029
CREATED:20260402T201615Z
LAST-MODIFIED:20260402T201655Z
UID:10004433-1777577400-1777581000@residentialhealthcaregroup.com
SUMMARY:Blue Elephant Children's Workshop - A Jar of Memories
DESCRIPTION:Any child\, ages 5-11 years old\, experiencing the loss of a loved one is invited to join our free Blue Elephant Discovery Workshops. Our goal is to help children explore ways to express their feelings and use coping mechanisms to guide them through grief. We will be creating a memory jar with small notes about our loved one we have lost. When the workshop is done\, we encourage you to pull one memory out daily\, or when you may need it.
URL:https://residentialhealthcaregroup.com/grief-services-event/blue-elephant-childrens-workshop-a-jar-of-memories-2/2026-04-30/2/
LOCATION:Virtual
CATEGORIES:All Events,In-Person Support Groups
ATTACH;FMTTYPE=image/jpeg:https://residentialhealthcaregroup.com/wp-content/uploads/Plainfield-Support-Group-1.jpg
ORGANIZER;CN="Residential Healthcare Group":MAILTO:griefsupport@residentialhospice.com
END:VEVENT
END:VCALENDAR